BEGIN:VCALENDAR
VERSION:2.0
PRODID:-//Remaja GMIM - ECPv6.10.2//NONSGML v1.0//EN
CALSCALE:GREGORIAN
METHOD:PUBLISH
X-WR-CALNAME:Remaja GMIM
X-ORIGINAL-URL:https://remaja.gmim.or.id
X-WR-CALDESC:Events for Remaja GMIM
REFRESH-INTERVAL;VALUE=DURATION:PT1H
X-Robots-Tag:noindex
X-PUBLISHED-TTL:PT1H
BEGIN:VTIMEZONE
TZID:Asia/Shanghai
BEGIN:STANDARD
TZOFFSETFROM:+0800
TZOFFSETTO:+0800
TZNAME:CST
DTSTART:20240101T000000
END:STANDARD
END:VTIMEZONE
BEGIN:VEVENT
DTSTART;TZID=Asia/Shanghai:20240706T090000
DTEND;TZID=Asia/Shanghai:20240706T170000
DTSTAMP:20260420T112123
CREATED:20240627T050340Z
LAST-MODIFIED:20240627T050340Z
UID:8227-1720256400-1720285200@remaja.gmim.or.id
SUMMARY:Technical Meeting 1 PSR GMIM 2024
DESCRIPTION:
URL:https://remaja.gmim.or.id/event/technical-meeting-1-psr-gmim-2024/
LOCATION:GMIM Sion Taraitak Wilayah Langowan Dua
END:VEVENT
BEGIN:VEVENT
DTSTART;VALUE=DATE:20240713
DTEND;VALUE=DATE:20240714
DTSTAMP:20260420T112123
CREATED:20240627T050453Z
LAST-MODIFIED:20240627T050453Z
UID:8230-1720828800-1720915199@remaja.gmim.or.id
SUMMARY:Kompetisi Potensi Diri #PILRETEL2024
DESCRIPTION:
URL:https://remaja.gmim.or.id/event/kompetisi-potensi-diri-pilretel2024/
LOCATION:GMIM Sion Tomohon
END:VEVENT
BEGIN:VEVENT
DTSTART;VALUE=DATE:20240713
DTEND;VALUE=DATE:20240714
DTSTAMP:20260420T112123
CREATED:20240627T050710Z
LAST-MODIFIED:20240627T050710Z
UID:8236-1720828800-1720915199@remaja.gmim.or.id
SUMMARY:Pelatihan Multimedia
DESCRIPTION:
URL:https://remaja.gmim.or.id/event/pelatihan-multimedia/
LOCATION:Wilayah Kakaskasen
END:VEVENT
BEGIN:VEVENT
DTSTART;VALUE=DATE:20240720
DTEND;VALUE=DATE:20240721
DTSTAMP:20260420T112123
CREATED:20240627T050549Z
LAST-MODIFIED:20240627T050549Z
UID:8233-1721433600-1721519999@remaja.gmim.or.id
SUMMARY:Grandfinal #PILRETEL2024
DESCRIPTION:
URL:https://remaja.gmim.or.id/event/grandfinal-pilretel2024/
LOCATION:GMIM Inspirasi Tomohon
END:VEVENT
BEGIN:VEVENT
DTSTART;VALUE=DATE:20240808
DTEND;VALUE=DATE:20240810
DTSTAMP:20260420T112123
CREATED:20240627T045248Z
LAST-MODIFIED:20240627T045248Z
UID:8214-1723075200-1723247999@remaja.gmim.or.id
SUMMARY:Festival Media Remaja GMIM 2024
DESCRIPTION:
URL:https://remaja.gmim.or.id/event/festival-media-remaja-gmim-2024/
LOCATION:Atrium Megamall Manado
END:VEVENT
BEGIN:VEVENT
DTSTART;VALUE=DATE:20240912
DTEND;VALUE=DATE:20240915
DTSTAMP:20260420T112123
CREATED:20240627T045525Z
LAST-MODIFIED:20240815T062232Z
UID:8220-1726099200-1726358399@remaja.gmim.or.id
SUMMARY:Pesta Seni Remaja GMIM 2024
DESCRIPTION:
URL:https://remaja.gmim.or.id/event/pesta-seni-remaja-gmim-2024/
LOCATION:Wilayah Langowan Dua dan Langowan Kelelondei
END:VEVENT
BEGIN:VEVENT
DTSTART;VALUE=DATE:20250201
DTEND;VALUE=DATE:20250301
DTSTAMP:20260420T112123
CREATED:20250203T061111Z
LAST-MODIFIED:20250203T061111Z
UID:8331-1738368000-1740787199@remaja.gmim.or.id
SUMMARY:Bulan Peduli Remaja GMIM
DESCRIPTION:
URL:https://remaja.gmim.or.id/event/bulan-peduli-remaja-gmim/
END:VEVENT
BEGIN:VEVENT
DTSTART;VALUE=DATE:20250203
DTEND;VALUE=DATE:20250204
DTSTAMP:20260420T112123
CREATED:20250215T065307Z
LAST-MODIFIED:20250215T065307Z
UID:8658-1738540800-1738627199@remaja.gmim.or.id
SUMMARY:Seminar Dogmatika Remaja GMIM 2025
DESCRIPTION:
URL:https://remaja.gmim.or.id/event/seminar-dogmatika-remaja-gmim-2025/
LOCATION:Wilayah Manado Utara 1
END:VEVENT
BEGIN:VEVENT
DTSTART;VALUE=DATE:20250426
DTEND;VALUE=DATE:20250427
DTSTAMP:20260420T112123
CREATED:20250215T065204Z
LAST-MODIFIED:20250215T065204Z
UID:8655-1745625600-1745711999@remaja.gmim.or.id
SUMMARY:Selebrasi Paskah Yesus Kristus Remaja GMIM 2025
DESCRIPTION:
URL:https://remaja.gmim.or.id/event/selebrasi-paskah-yesus-kristus-remaja-gmim-2025/
LOCATION:Wilayah Manado Utara 1 dan 3
END:VEVENT
BEGIN:VEVENT
DTSTART;VALUE=DATE:20250501
DTEND;VALUE=DATE:20250502
DTSTAMP:20260420T112123
CREATED:20250215T065035Z
LAST-MODIFIED:20250215T065105Z
UID:8651-1746057600-1746143999@remaja.gmim.or.id
SUMMARY:Online Test Pemilihan Remaja Teladan Sinode GMIM 2025
DESCRIPTION:
URL:https://remaja.gmim.or.id/event/onlinetest-pemilihan-remaja-teladan-sinode-gmim-2025/
LOCATION:12 Rayon Pelayanan Remaja GMIM
END:VEVENT
BEGIN:VEVENT
DTSTART;VALUE=DATE:20250630
DTEND;VALUE=DATE:20250705
DTSTAMP:20260420T112123
CREATED:20250215T065508Z
LAST-MODIFIED:20250512T031554Z
UID:8663-1751241600-1751673599@remaja.gmim.or.id
SUMMARY:Perkemahan Kreatif Remaja GMIM 2025
DESCRIPTION:
URL:https://remaja.gmim.or.id/event/perkemahan-kreatif-remaja-gmim-2025/
LOCATION:Wilayah Sea
END:VEVENT
BEGIN:VEVENT
DTSTART;VALUE=DATE:20250718
DTEND;VALUE=DATE:20250720
DTSTAMP:20260420T112123
CREATED:20250215T065412Z
LAST-MODIFIED:20250501T091144Z
UID:8661-1752796800-1752969599@remaja.gmim.or.id
SUMMARY:Festival Media Remaja GMIM 2025
DESCRIPTION:
URL:https://remaja.gmim.or.id/event/festival-media-remaja-gmim-2025/
LOCATION:Wilayah Manado Malalayang
END:VEVENT
BEGIN:VEVENT
DTSTART;TZID=Asia/Shanghai:20250822T080000
DTEND;TZID=Asia/Shanghai:20250824T170000
DTSTAMP:20260420T112123
CREATED:20250215T065643Z
LAST-MODIFIED:20250215T065643Z
UID:8668-1755849600-1756054800@remaja.gmim.or.id
SUMMARY:Pesta Seni Remaja GMIM 2025
DESCRIPTION:
URL:https://remaja.gmim.or.id/event/pesta-seni-remaja-gmim-2025/
LOCATION:Wilayah Amurang 1\, 2\, 3
END:VEVENT
BEGIN:VEVENT
DTSTART;TZID=Asia/Shanghai:20250926T080000
DTEND;TZID=Asia/Shanghai:20250927T170000
DTSTAMP:20260420T112123
CREATED:20250215T065756Z
LAST-MODIFIED:20250215T065756Z
UID:8671-1758873600-1758992400@remaja.gmim.or.id
SUMMARY:Konsultasi Tahunan KPRS GMIM 2025
DESCRIPTION:
URL:https://remaja.gmim.or.id/event/konsultasi-tahunan-kprs-gmim-2025/
LOCATION:Wilayah Manado Timur 2 dan 5
END:VEVENT
BEGIN:VEVENT
DTSTART;VALUE=DATE:20251017
DTEND;VALUE=DATE:20251020
DTSTAMP:20260420T112123
CREATED:20250215T065851Z
LAST-MODIFIED:20250215T065851Z
UID:8674-1760659200-1760918399@remaja.gmim.or.id
SUMMARY:Bina Remaja Teladan Sinode GMIM 2025
DESCRIPTION:
URL:https://remaja.gmim.or.id/event/bina-remaja-teladan-sinode-gmim-2025/
LOCATION:Rayon 1 Minahasa Utara
END:VEVENT
BEGIN:VEVENT
DTSTART;VALUE=DATE:20251227
DTEND;VALUE=DATE:20251228
DTSTAMP:20260420T112123
CREATED:20250215T065945Z
LAST-MODIFIED:20250215T065945Z
UID:8677-1766793600-1766879999@remaja.gmim.or.id
SUMMARY:Perayaan Natal Yesus Kristus Remaja GMIM 2025
DESCRIPTION:
URL:https://remaja.gmim.or.id/event/perayaan-natal-yesus-kristus-remaja-gmim-2025/
LOCATION:Wilayah Tombatu Timur
END:VEVENT
BEGIN:VEVENT
DTSTART;VALUE=DATE:20260213
DTEND;VALUE=DATE:20260215
DTSTAMP:20260420T112123
CREATED:20250215T070034Z
LAST-MODIFIED:20260115T010024Z
UID:8680-1770940800-1771113599@remaja.gmim.or.id
SUMMARY:Hari Persatuan Remaja GMIM 2026
DESCRIPTION:
URL:https://remaja.gmim.or.id/event/hari-persatuan-remaja-gmim-2026/
LOCATION:Wilayah Kalawat Raya dan Airmadidi 2
END:VEVENT
END:VCALENDAR