BEGIN:VCALENDAR
VERSION:2.0
PRODID:-//Remaja GMIM - ECPv6.10.2//NONSGML v1.0//EN
CALSCALE:GREGORIAN
METHOD:PUBLISH
X-WR-CALNAME:Remaja GMIM
X-ORIGINAL-URL:https://remaja.gmim.or.id
X-WR-CALDESC:Events for Remaja GMIM
REFRESH-INTERVAL;VALUE=DURATION:PT1H
X-Robots-Tag:noindex
X-PUBLISHED-TTL:PT1H
BEGIN:VTIMEZONE
TZID:Asia/Shanghai
BEGIN:STANDARD
TZOFFSETFROM:+0800
TZOFFSETTO:+0800
TZNAME:CST
DTSTART:20220101T000000
END:STANDARD
END:VTIMEZONE
BEGIN:VEVENT
DTSTART;VALUE=DATE:20221028
DTEND;VALUE=DATE:20221031
DTSTAMP:20260420T074820
CREATED:20220928T053501Z
LAST-MODIFIED:20220928T053501Z
UID:7476-1666915200-1667174399@remaja.gmim.or.id
SUMMARY:Bina Remaja Teladan
DESCRIPTION:
URL:https://remaja.gmim.or.id/event/bina-remaja-teladan/
LOCATION:Wilayah Posumaen\, Minahasa Tenggara\, Sulawesi Utara\, Indonesia
END:VEVENT
BEGIN:VEVENT
DTSTART;VALUE=DATE:20221014
DTEND;VALUE=DATE:20221017
DTSTAMP:20260420T074820
CREATED:20220928T053326Z
LAST-MODIFIED:20220928T053326Z
UID:7473-1665705600-1665964799@remaja.gmim.or.id
SUMMARY:Pelayanan Bersama Remaja SAG dan GKLB
DESCRIPTION:
URL:https://remaja.gmim.or.id/event/pelayanan-bersama-remaja-sag-dan-gklb/
LOCATION:Luwuk\, Banggai\, Sulawesi Utara\, Indonesia
END:VEVENT
BEGIN:VEVENT
DTSTART;TZID=Asia/Shanghai:20220923T000000
DTEND;TZID=Asia/Shanghai:20220924T235900
DTSTAMP:20260420T074820
CREATED:20220723T034400Z
LAST-MODIFIED:20220817T072551Z
UID:6801-1663891200-1664063940@remaja.gmim.or.id
SUMMARY:Pesta Seni Remaja GMIM 2022
DESCRIPTION:
URL:https://remaja.gmim.or.id/event/pesta-seni-remaja-gmim-2022/
LOCATION:Wilayah Ratahan\, Minahasa Tenggara\, Sulawesi Utara\, Indonesia
END:VEVENT
BEGIN:VEVENT
DTSTART;TZID=Asia/Shanghai:20220916T150000
DTEND;TZID=Asia/Shanghai:20220916T220000
DTSTAMP:20260420T074820
CREATED:20220817T074045Z
LAST-MODIFIED:20220817T074045Z
UID:6978-1663340400-1663365600@remaja.gmim.or.id
SUMMARY:Grandfinal Pemilihan Remaja Teladan Sinode GMIM 2022
DESCRIPTION:
URL:https://remaja.gmim.or.id/event/grandfinal-pemilihan-remaja-teladan-sinode-gmim-2022/
LOCATION:GOR Bitung\, Bitung\, Sulawesi Utara\, Indonesia
END:VEVENT
BEGIN:VEVENT
DTSTART;TZID=Asia/Shanghai:20220910T100000
DTEND;TZID=Asia/Shanghai:20220910T140000
DTSTAMP:20260420T074820
CREATED:20220801T121532Z
LAST-MODIFIED:20220817T072616Z
UID:6923-1662804000-1662818400@remaja.gmim.or.id
SUMMARY:Technical Meeting 2 Pesta Seni Remaja GMIM 2022
DESCRIPTION:
URL:https://remaja.gmim.or.id/event/technical-meeting-2-pesta-seni-remaja-gmim-2022/
LOCATION:Sport Hall Kantor DPRD Kab. Minahasa Tenggara\, Minahasa Tenggara\, Sulawesi Utara\, Indonesia
END:VEVENT
BEGIN:VEVENT
DTSTART;TZID=Asia/Shanghai:20220910T090000
DTEND;TZID=Asia/Shanghai:20220910T160000
DTSTAMP:20260420T074820
CREATED:20220817T073829Z
LAST-MODIFIED:20220817T074208Z
UID:6973-1662800400-1662825600@remaja.gmim.or.id
SUMMARY:Kompetisi Potensi Diri Pemilihan Remaja Teladan Sinode GMIM 2022
DESCRIPTION:
URL:https://remaja.gmim.or.id/event/kompetisi-potensi-diri-pemilihan-remaja-teladan-sinode-gmim-2022/
LOCATION:Gedung Sarundajang\, Bitung\, Sulawesi Utara\, Indonesia
END:VEVENT
BEGIN:VEVENT
DTSTART;VALUE=DATE:20220909
DTEND;VALUE=DATE:20220912
DTSTAMP:20260420T074820
CREATED:20220901T015721Z
LAST-MODIFIED:20220904T150312Z
UID:7125-1662681600-1662940799@remaja.gmim.or.id
SUMMARY:Pelatihan Ibadah Kreatif dan Variatif
DESCRIPTION:Peserta 2-3 orang per jemaat dibatasi 250 orang\nBiaya Pendaftaran Rp. 100.000 per peserta\nPendaftaran Manual
URL:https://remaja.gmim.or.id/event/pelatihan-ibadah-kreatif-dan-variatif/
LOCATION:GMIM Eben Haezer Koha Wilayah Mandolang Satu\, Minahasa\, Sulawesi Utara\, Indonesia
END:VEVENT
BEGIN:VEVENT
DTSTART;VALUE=DATE:20220904
DTEND;VALUE=DATE:20220905
DTSTAMP:20260420T074820
CREATED:20220817T073927Z
LAST-MODIFIED:20220901T063007Z
UID:6976-1662249600-1662335999@remaja.gmim.or.id
SUMMARY:Pelayanan Holistik Pemilihan Remaja Teladan Sinode GMIM 2022
DESCRIPTION:
URL:https://remaja.gmim.or.id/event/pelayanan-holistik-pemilihan-remaja-teladan-sinode-gmim-2022/
LOCATION:Jemaat Euanggelion Motto Wilayah Bitung VI\, Pulau Lembe\, Bitung\, Sulawesi Utara\, Indonesia
END:VEVENT
BEGIN:VEVENT
DTSTART;VALUE=DATE:20220902
DTEND;VALUE=DATE:20220905
DTSTAMP:20260420T074820
CREATED:20220817T073341Z
LAST-MODIFIED:20220901T063126Z
UID:6969-1662076800-1662335999@remaja.gmim.or.id
SUMMARY:Karantina Pemilihan Remaja Teladan Sinode GMIM 2022
DESCRIPTION:
URL:https://remaja.gmim.or.id/event/karantina-pemilihan-remaja-teladan-sinode-gmim-2022/
LOCATION:GIA Beach\, Motto\, Pulau Lembe\, Bitung\, Sulawesi Utara\, Indonesia
END:VEVENT
BEGIN:VEVENT
DTSTART;TZID=Asia/Shanghai:20220827T080000
DTEND;TZID=Asia/Shanghai:20220827T170000
DTSTAMP:20260420T074820
CREATED:20220817T072510Z
LAST-MODIFIED:20220822T023015Z
UID:6959-1661587200-1661619600@remaja.gmim.or.id
SUMMARY:Wawancara Pemilihan Remaja Teladan Sinode GMIM 2022
DESCRIPTION:Materi yang akan diwawancarai adalah sebagai berikut :\nKepribadian\, Love Sex and dating\nPengetahuan Alkitab\nAjaran\, Tata Gereja dan Sejarah GMIM\nKepemimpinan dan Organisasi\nPengetahuan Umum\nKeremajaan GMIM\nPariwisata dan Kebudayaan \nBahasa Inggris \nPakaian\nPutra : Kemeja Putih Lengan Panjang\, Celana Kain Hitam\, Sepatu Vantovel\nPutri : Kemeja Putih\, Rok Kain Hitam\, Sepatu Teplek \nPeserta Membawa Tumbler
URL:https://remaja.gmim.or.id/event/tahapan-wawancara-pemilihan-remaja-teladan-gmim-2022/
LOCATION:GMIM Karunia Manembo Nembo dan GMIM Pniel Manembo Nembo\, Bitung\, Sulawesi Utara\, Indonesia
END:VEVENT
BEGIN:VEVENT
DTSTART;TZID=Asia/Shanghai:20220723T100000
DTEND;TZID=Asia/Shanghai:20220723T100000
DTSTAMP:20260420T074820
CREATED:20220719T041501Z
LAST-MODIFIED:20220817T072654Z
UID:6512-1658570400-1658570400@remaja.gmim.or.id
SUMMARY:Technical Meeting 1 Pesta Seni Remaja GMIM 2022
DESCRIPTION:
URL:https://remaja.gmim.or.id/event/technical-meeting-1-pesta-seni-remaja-gmim-2022/
LOCATION:Sport Hall Kantor DPRD Kab. Minahasa Tenggara\, Minahasa Tenggara\, Sulawesi Utara\, Indonesia
END:VEVENT
BEGIN:VEVENT
DTSTART;VALUE=DATE:20220705
DTEND;VALUE=DATE:20220709
DTSTAMP:20260420T074820
CREATED:20220720T111556Z
LAST-MODIFIED:20220817T072714Z
UID:6688-1656979200-1657324799@remaja.gmim.or.id
SUMMARY:Perkemahan Kreatif Remaja Sinode GMIM 2022
DESCRIPTION:
URL:https://remaja.gmim.or.id/event/perkemahan-kreatif-remaja-sinode-gmim-2022/
LOCATION:Bumi Perkemahan Senayan Wilayah Tombatu Barat – Mitra\, Minahasa Tenggara\, Sulawesi Utara\, Indonesia
END:VEVENT
BEGIN:VEVENT
DTSTART;TZID=Asia/Shanghai:20220626T170000
DTEND;TZID=Asia/Shanghai:20220626T200000
DTSTAMP:20260420T074820
CREATED:20220720T112434Z
LAST-MODIFIED:20220817T072745Z
UID:6692-1656262800-1656273600@remaja.gmim.or.id
SUMMARY:Pelantikan Koordinatorium dan Kelompok Kerja KPRS GMIM
DESCRIPTION:
URL:https://remaja.gmim.or.id/event/pelantikan-koordinatorium-dan-kelompok-kerja-kprs-gmim/
LOCATION:GMIM Pniel Manembo-Nembo Wil. Bitung VII\, Bitung\, Sulawesi Utara\, Indonesia
END:VEVENT
BEGIN:VEVENT
DTSTART;TZID=Asia/Shanghai:20220423T090000
DTEND;TZID=Asia/Shanghai:20220423T130000
DTSTAMP:20260420T074820
CREATED:20220720T110730Z
LAST-MODIFIED:20220817T072759Z
UID:6682-1650704400-1650718800@remaja.gmim.or.id
SUMMARY:Ibadah Paskah Remaja GMIM 2022
DESCRIPTION:
URL:https://remaja.gmim.or.id/event/ibadah-paskah-remaja-gmim-2022/
LOCATION:Lapangan Desa Winuri Wilayah Likupang II\, Minahasa Utara\, Sulawesi Utara\, Indonesia
END:VEVENT
END:VCALENDAR